BEGIN:VCALENDAR
VERSION:2.0
PRODID:-// - ECPv6.15.20//NONSGML v1.0//EN
CALSCALE:GREGORIAN
METHOD:PUBLISH
X-ORIGINAL-URL:https://bookloversgourmet.com
X-WR-CALDESC:Events for 
REFRESH-INTERVAL;VALUE=DURATION:PT1H
X-Robots-Tag:noindex
X-PUBLISHED-TTL:PT1H
BEGIN:VTIMEZONE
TZID:UTC
BEGIN:STANDARD
TZOFFSETFROM:+0000
TZOFFSETTO:+0000
TZNAME:UTC
DTSTART:20250101T000000
END:STANDARD
END:VTIMEZONE
BEGIN:VEVENT
DTSTART;VALUE=DATE:20260401
DTEND;VALUE=DATE:20260501
DTSTAMP:20260422T101627
CREATED:20260402T010102Z
LAST-MODIFIED:20260402T010240Z
UID:5463-1775001600-1777593599@bookloversgourmet.com
SUMMARY:"Still"- Nature Photography by Janet McDonald
DESCRIPTION:Great Blue Heron by Janet McDonald\n“Still”\, a series of nature photographs by Janet McDonald\, will be on display and for sale throughout April in our cafe gallery. \n\nA meet and greet with the artist will take place on Saturday\, April 11th from 2-4 p.m. The public is invited and all attendees will receive a hand-painted rock as a special gift!\nThe show may also be viewed during normal business hours: Tuesday-Saturday 10-5\, Wednesday 10-6. For more information\, call 508-949-6232.\n \nArtist’s Statement: “This exhibit is an invitation to pause\, to observe and to remember that photographs are a glimpse into an entire ever-changing landscape. These captured moments\, frozen in time\, tell a story\, evoke a feeling\, memorialize a memory.\n \nAs I raise my camera to capture these still moments\, the photograph becomes a fraction of the world around me. My canoe will glide past the subject. I’ll continue my walk down a garden path or my hike in the woods\, leaving the stillness to continue or disappear from sight. \n \nEnjoy these photographs and the luminous detail that emerges on the surfaces. And enjoy the concept of fleeting moments and the feelings they evoke instead of skipping to the end. It’s about taking the time to stop and smell the roses along the way!”
URL:https://bookloversgourmet.com/event/still-nature-photography-by-janet-mcdonald/
LOCATION:Booklovers’ Gourmet\, 72 East Main St\, Webster\, MA\, 01570\, United States
CATEGORIES:Monthly Art Exhibits
ORGANIZER;CN="Deb Horan":MAILTO:deb@bookloversgourmet.com
END:VEVENT
BEGIN:VEVENT
DTSTART;VALUE=DATE:20260419
DTEND;VALUE=DATE:20260430
DTSTAMP:20260422T101627
CREATED:20260403T022926Z
LAST-MODIFIED:20260403T022926Z
UID:5480-1776556800-1777507199@bookloversgourmet.com
SUMMARY:MA Center for the Book Reading Challenge Week
DESCRIPTION:
URL:https://bookloversgourmet.com/event/ma-center-for-the-book-reading-challenge-week/
LOCATION:Booklovers’ Gourmet\, 72 East Main St\, Webster\, MA\, 01570\, United States
CATEGORIES:Other Fun Events
ORGANIZER;CN="Deb Horan":MAILTO:deb@bookloversgourmet.com
END:VEVENT
BEGIN:VEVENT
DTSTART;TZID=UTC:20260422T173000
DTEND;TZID=UTC:20260422T190000
DTSTAMP:20260422T101627
CREATED:20260303T235126Z
LAST-MODIFIED:20260401T215837Z
UID:5426-1776879000-1776884400@bookloversgourmet.com
SUMMARY:Evening Book Group April
DESCRIPTION:This month’s pick is Raising Hare by Chloe Dalton. ***Please note: meeting is a week earlier than normal*** \nImagine you could hold a baby hare and bottle-feed it. Imagine that it lived under your roof and bounded around your bedroom at night\, drumming on the duvet cover when it wanted your attention. Imagine that\, more than two years later\, it still ran in from the fields when you called it and slept in your house for hours on end. For political advisor and speechwriter Chloe Dalton\, who spent lockdown deep in the English countryside\, far away from her usual busy London life\, this became her unexpected reality. \nBooks may be purchased in store for a 10% discount or online at Bookshop.org
URL:https://bookloversgourmet.com/event/evening-book-group-march/
LOCATION:Booklovers’ Gourmet\, 72 East Main St\, Webster\, MA\, 01570\, United States
CATEGORIES:Author Events,Other Fun Events
ORGANIZER;CN="Deb Horan":MAILTO:deb@bookloversgourmet.com
END:VEVENT
END:VCALENDAR